BEGIN:VCALENDAR
VERSION:2.0
PRODID:-//KJHK 90.7 FM - ECPv6.15.20//NONSGML v1.0//EN
CALSCALE:GREGORIAN
METHOD:PUBLISH
X-ORIGINAL-URL:https://kjhk.org/web
X-WR-CALDESC:Events for KJHK 90.7 FM
REFRESH-INTERVAL;VALUE=DURATION:PT1H
X-Robots-Tag:noindex
X-PUBLISHED-TTL:PT1H
BEGIN:VTIMEZONE
TZID:America/Chicago
BEGIN:DAYLIGHT
TZOFFSETFROM:-0600
TZOFFSETTO:-0500
TZNAME:CDT
DTSTART:20230312T080000
END:DAYLIGHT
BEGIN:STANDARD
TZOFFSETFROM:-0500
TZOFFSETTO:-0600
TZNAME:CST
DTSTART:20231105T070000
END:STANDARD
BEGIN:DAYLIGHT
TZOFFSETFROM:-0600
TZOFFSETTO:-0500
TZNAME:CDT
DTSTART:20240310T080000
END:DAYLIGHT
BEGIN:STANDARD
TZOFFSETFROM:-0500
TZOFFSETTO:-0600
TZNAME:CST
DTSTART:20241103T070000
END:STANDARD
BEGIN:DAYLIGHT
TZOFFSETFROM:-0600
TZOFFSETTO:-0500
TZNAME:CDT
DTSTART:20250309T080000
END:DAYLIGHT
BEGIN:STANDARD
TZOFFSETFROM:-0500
TZOFFSETTO:-0600
TZNAME:CST
DTSTART:20251102T070000
END:STANDARD
BEGIN:DAYLIGHT
TZOFFSETFROM:-0600
TZOFFSETTO:-0500
TZNAME:CDT
DTSTART:20260308T080000
END:DAYLIGHT
BEGIN:STANDARD
TZOFFSETFROM:-0500
TZOFFSETTO:-0600
TZNAME:CST
DTSTART:20261101T070000
END:STANDARD
END:VTIMEZONE
BEGIN:VEVENT
DTSTART;VALUE=DATE:20251015
DTEND;VALUE=DATE:20251020
DTSTAMP:20260419T084652
CREATED:20250602T204039Z
LAST-MODIFIED:20250609T005040Z
UID:10001199-1760493600-1760839199@kjhk.org
SUMMARY:50th Birthday Party
DESCRIPTION:
URL:https://kjhk.org/web/event/50th-birthday-party/
CATEGORIES:Activities,Art,Community,Music,Performance
END:VEVENT
BEGIN:VEVENT
DTSTART;TZID=America/Chicago:20241005T100000
DTEND;TZID=America/Chicago:20241005T180000
DTSTAMP:20260419T084652
CREATED:20240930T173008Z
LAST-MODIFIED:20240930T173008Z
UID:10001145-1728122400-1728151200@kjhk.org
SUMMARY:Flash Fundraiser
DESCRIPTION:Saturday\, October 5th from 10 am until 6 pm\, KJHK is partnering with Abraxas Tattoo for our brand new Flash Fundraiser event! Consult this article for more information.
URL:https://kjhk.org/web/event/flash-fundraiser/
LOCATION:Abraxas Tattoo\, 1401 Massachusetts Street\, Lawrence\, KS\, United States
CATEGORIES:Art,Community,KJHK Forward Promotion,Recommended Events
ORGANIZER;CN="KJHK 90.7 FM":MAILTO:events@kjhk.org
END:VEVENT
END:VCALENDAR