BEGIN:VCALENDAR
VERSION:2.0
PRODID:-//KJHK 90.7 FM - ECPv6.15.20//NONSGML v1.0//EN
CALSCALE:GREGORIAN
METHOD:PUBLISH
X-ORIGINAL-URL:https://kjhk.org/web
X-WR-CALDESC:Events for KJHK 90.7 FM
REFRESH-INTERVAL;VALUE=DURATION:PT1H
X-Robots-Tag:noindex
X-PUBLISHED-TTL:PT1H
BEGIN:VTIMEZONE
TZID:America/Chicago
BEGIN:DAYLIGHT
TZOFFSETFROM:-0600
TZOFFSETTO:-0500
TZNAME:CDT
DTSTART:20230312T080000
END:DAYLIGHT
BEGIN:STANDARD
TZOFFSETFROM:-0500
TZOFFSETTO:-0600
TZNAME:CST
DTSTART:20231105T070000
END:STANDARD
BEGIN:DAYLIGHT
TZOFFSETFROM:-0600
TZOFFSETTO:-0500
TZNAME:CDT
DTSTART:20240310T080000
END:DAYLIGHT
BEGIN:STANDARD
TZOFFSETFROM:-0500
TZOFFSETTO:-0600
TZNAME:CST
DTSTART:20241103T070000
END:STANDARD
BEGIN:DAYLIGHT
TZOFFSETFROM:-0600
TZOFFSETTO:-0500
TZNAME:CDT
DTSTART:20250309T080000
END:DAYLIGHT
BEGIN:STANDARD
TZOFFSETFROM:-0500
TZOFFSETTO:-0600
TZNAME:CST
DTSTART:20251102T070000
END:STANDARD
END:VTIMEZONE
BEGIN:VEVENT
DTSTART;TZID=America/Chicago:20241114T220000
DTEND;TZID=America/Chicago:20241115T000000
DTSTAMP:20260423T010138
CREATED:20240930T172602Z
LAST-MODIFIED:20240930T172602Z
UID:10001144-1731621600-1731628800@kjhk.org
SUMMARY:Battle of the Beats
DESCRIPTION:Come on down to the Replay Lounge for our annual Battle of the Beats event–a competition between DJs!
URL:https://kjhk.org/web/event/battle-of-the-beats/
LOCATION:Replay Lounge\, 946 Massachusetts St\, Lawrence\, 66044\, United States
CATEGORIES:Community,KJHK Forward Promotion,Music,Performance
ORGANIZER;CN="KJHK 90.7 FM":MAILTO:events@kjhk.org
GEO:38.965828;-95.235527
X-APPLE-STRUCTURED-LOCATION;VALUE=URI;X-ADDRESS=Replay Lounge 946 Massachusetts St Lawrence 66044 United States;X-APPLE-RADIUS=500;X-TITLE=946 Massachusetts St:geo:-95.235527,38.965828
END:VEVENT
END:VCALENDAR