BEGIN:VCALENDAR
VERSION:2.0
PRODID:-//KJHK 90.7 FM - ECPv6.15.20//NONSGML v1.0//EN
CALSCALE:GREGORIAN
METHOD:PUBLISH
X-ORIGINAL-URL:https://kjhk.org/web
X-WR-CALDESC:Events for KJHK 90.7 FM
REFRESH-INTERVAL;VALUE=DURATION:PT1H
X-Robots-Tag:noindex
X-PUBLISHED-TTL:PT1H
BEGIN:VTIMEZONE
TZID:America/Chicago
BEGIN:DAYLIGHT
TZOFFSETFROM:-0600
TZOFFSETTO:-0500
TZNAME:CDT
DTSTART:20230312T080000
END:DAYLIGHT
BEGIN:STANDARD
TZOFFSETFROM:-0500
TZOFFSETTO:-0600
TZNAME:CST
DTSTART:20231105T070000
END:STANDARD
BEGIN:DAYLIGHT
TZOFFSETFROM:-0600
TZOFFSETTO:-0500
TZNAME:CDT
DTSTART:20240310T080000
END:DAYLIGHT
BEGIN:STANDARD
TZOFFSETFROM:-0500
TZOFFSETTO:-0600
TZNAME:CST
DTSTART:20241103T070000
END:STANDARD
BEGIN:DAYLIGHT
TZOFFSETFROM:-0600
TZOFFSETTO:-0500
TZNAME:CDT
DTSTART:20250309T080000
END:DAYLIGHT
BEGIN:STANDARD
TZOFFSETFROM:-0500
TZOFFSETTO:-0600
TZNAME:CST
DTSTART:20251102T070000
END:STANDARD
END:VTIMEZONE
BEGIN:VEVENT
DTSTART;TZID=America/Chicago:20240930T183000
DTEND;TZID=America/Chicago:20240930T193000
DTSTAMP:20260421T144520
CREATED:20240910T142341Z
LAST-MODIFIED:20240910T142341Z
UID:10000211-1727721000-1727724600@kjhk.org
SUMMARY:Sports Staff
DESCRIPTION:Sports staff meets Mondays 6-7 pm in the Union Parlor on the 5th floor!
URL:https://kjhk.org/web/event/sports-staff-2/2024-09-30/
LOCATION:Union Parlor
CATEGORIES:Sports,Staff Meeting
ORGANIZER;CN="KJHK 90.7 FM":MAILTO:events@kjhk.org
END:VEVENT
BEGIN:VEVENT
DTSTART;TZID=America/Chicago:20241003T170000
DTEND;TZID=America/Chicago:20241003T180000
DTSTAMP:20260421T144520
CREATED:20240910T142927Z
LAST-MODIFIED:20250117T190358Z
UID:10000286-1727974800-1727978400@kjhk.org
SUMMARY:Music Staff
DESCRIPTION:Music Staff meets Thursdays 5-6 pm in the Regionalist Room of the Union!
URL:https://kjhk.org/web/event/music-staff-2-2-2/2024-10-03/
LOCATION:Regionalist Room @ KU Memorial Union
CATEGORIES:Music,Staff Meeting
ORGANIZER;CN="KJHK 90.7 FM":MAILTO:events@kjhk.org
END:VEVENT
BEGIN:VEVENT
DTSTART;TZID=America/Chicago:20241003T183000
DTEND;TZID=America/Chicago:20241003T200000
DTSTAMP:20260421T144520
CREATED:20240930T175035Z
LAST-MODIFIED:20240930T175035Z
UID:10001146-1727980200-1727985600@kjhk.org
SUMMARY:October All-Staff Meeting: TRIVIA NIGHT!
DESCRIPTION:Our all-staff meeting this month is in Alderson Auditorium on the 4th floor of the Kansas Union. Stop by for food\, trivia\, prizes\, and fun times!
URL:https://kjhk.org/web/event/october-all-staff-meeting-trivia-night/
LOCATION:Alderson Auditorium\, Kansas Union\, Level 4
CATEGORIES:Activities,Community,KJHK Forward Promotion,Staff Meeting
ORGANIZER;CN="KJHK 90.7 FM":MAILTO:events@kjhk.org
END:VEVENT
END:VCALENDAR