BEGIN:VCALENDAR
VERSION:2.0
PRODID:-//KJHK 90.7 FM - ECPv6.15.20//NONSGML v1.0//EN
CALSCALE:GREGORIAN
METHOD:PUBLISH
X-WR-CALNAME:KJHK 90.7 FM
X-ORIGINAL-URL:https://kjhk.org/web
X-WR-CALDESC:Events for KJHK 90.7 FM
REFRESH-INTERVAL;VALUE=DURATION:PT1H
X-Robots-Tag:noindex
X-PUBLISHED-TTL:PT1H
BEGIN:VTIMEZONE
TZID:America/Chicago
BEGIN:DAYLIGHT
TZOFFSETFROM:-0600
TZOFFSETTO:-0500
TZNAME:CDT
DTSTART:20230312T080000
END:DAYLIGHT
BEGIN:STANDARD
TZOFFSETFROM:-0500
TZOFFSETTO:-0600
TZNAME:CST
DTSTART:20231105T070000
END:STANDARD
BEGIN:DAYLIGHT
TZOFFSETFROM:-0600
TZOFFSETTO:-0500
TZNAME:CDT
DTSTART:20240310T080000
END:DAYLIGHT
BEGIN:STANDARD
TZOFFSETFROM:-0500
TZOFFSETTO:-0600
TZNAME:CST
DTSTART:20241103T070000
END:STANDARD
BEGIN:DAYLIGHT
TZOFFSETFROM:-0600
TZOFFSETTO:-0500
TZNAME:CDT
DTSTART:20250309T080000
END:DAYLIGHT
BEGIN:STANDARD
TZOFFSETFROM:-0500
TZOFFSETTO:-0600
TZNAME:CST
DTSTART:20251102T070000
END:STANDARD
END:VTIMEZONE
BEGIN:VEVENT
DTSTART;TZID=America/Chicago:20240305T163000
DTEND;TZID=America/Chicago:20240305T173000
DTSTAMP:20260421T065947
CREATED:20240204T193338Z
LAST-MODIFIED:20240204T201421Z
UID:10000038-1709656200-1709659800@kjhk.org
SUMMARY:Street Team
DESCRIPTION:Street Team Meets from 4:30-5:30 pm in the Station!
URL:https://kjhk.org/web/event/street-team/2024-03-05/
LOCATION:KJHK Main Station
CATEGORIES:Staff Meeting
ORGANIZER;CN="KJHK 90.7 FM":MAILTO:events@kjhk.org
END:VEVENT
BEGIN:VEVENT
DTSTART;TZID=America/Chicago:20240307T113000
DTEND;TZID=America/Chicago:20240307T130000
DTSTAMP:20260421T065947
CREATED:20240223T163307Z
LAST-MODIFIED:20240223T163448Z
UID:10000245-1709811000-1709816400@kjhk.org
SUMMARY:Veggie Lunch Broadcasting
DESCRIPTION:KJHK is partnering with Ecumenical Campus Ministries to broadcast live during their weekly free veggie lunch! KJ staffers will be set up with the promo table\, speakers\, and mics ready to go live from the ECM during this time and chat with local Lawrence townies and KU students about their fav veggie lunch experiences and anything else that comes up! \n  \nYou can catch this epic event from 11:30am – 1pm!
URL:https://kjhk.org/web/event/veggie-lunch-broadcasting/
LOCATION:ECM- Ecumenical Campus Ministries\, 1204 Oread Ave.\, Lawrence\, KS\, 66044\, United States
CATEGORIES:Community
ORGANIZER;CN="KJHK 90.7 FM":MAILTO:events@kjhk.org
GEO:38.9615893;-95.2420999
X-APPLE-STRUCTURED-LOCATION;VALUE=URI;X-ADDRESS=ECM- Ecumenical Campus Ministries 1204 Oread Ave. Lawrence KS 66044 United States;X-APPLE-RADIUS=500;X-TITLE=1204 Oread Ave.:geo:-95.2420999,38.9615893
END:VEVENT
BEGIN:VEVENT
DTSTART;TZID=America/Chicago:20240308T173000
DTEND;TZID=America/Chicago:20240308T183000
DTSTAMP:20260421T065947
CREATED:20240204T193921Z
LAST-MODIFIED:20240204T195854Z
UID:10000051-1709919000-1709922600@kjhk.org
SUMMARY:Content Staff
DESCRIPTION:Content Staff meets Friday’s 5:30-6:30 pm in the Station!
URL:https://kjhk.org/web/event/content-staff/2024-03-08/
LOCATION:KJHK Main Station
CATEGORIES:Staff Meeting
ORGANIZER;CN="KJHK 90.7 FM":MAILTO:events@kjhk.org
END:VEVENT
END:VCALENDAR