BEGIN:VCALENDAR
VERSION:2.0
PRODID:-//KJHK 90.7 FM - ECPv6.15.20//NONSGML v1.0//EN
CALSCALE:GREGORIAN
METHOD:PUBLISH
X-ORIGINAL-URL:https://kjhk.org/web
X-WR-CALDESC:Events for KJHK 90.7 FM
REFRESH-INTERVAL;VALUE=DURATION:PT1H
X-Robots-Tag:noindex
X-PUBLISHED-TTL:PT1H
BEGIN:VTIMEZONE
TZID:America/Chicago
BEGIN:DAYLIGHT
TZOFFSETFROM:-0600
TZOFFSETTO:-0500
TZNAME:CDT
DTSTART:20230312T080000
END:DAYLIGHT
BEGIN:STANDARD
TZOFFSETFROM:-0500
TZOFFSETTO:-0600
TZNAME:CST
DTSTART:20231105T070000
END:STANDARD
BEGIN:DAYLIGHT
TZOFFSETFROM:-0600
TZOFFSETTO:-0500
TZNAME:CDT
DTSTART:20240310T080000
END:DAYLIGHT
BEGIN:STANDARD
TZOFFSETFROM:-0500
TZOFFSETTO:-0600
TZNAME:CST
DTSTART:20241103T070000
END:STANDARD
BEGIN:DAYLIGHT
TZOFFSETFROM:-0600
TZOFFSETTO:-0500
TZNAME:CDT
DTSTART:20250309T080000
END:DAYLIGHT
BEGIN:STANDARD
TZOFFSETFROM:-0500
TZOFFSETTO:-0600
TZNAME:CST
DTSTART:20251102T070000
END:STANDARD
END:VTIMEZONE
BEGIN:VEVENT
DTSTART;TZID=America/Chicago:20240430T163000
DTEND;TZID=America/Chicago:20240430T173000
DTSTAMP:20260419T235254
CREATED:20240204T193338Z
LAST-MODIFIED:20240204T201421Z
UID:10000045-1714494600-1714498200@kjhk.org
SUMMARY:Street Team
DESCRIPTION:Street Team Meets from 4:30-5:30 pm in the Station!
URL:https://kjhk.org/web/event/street-team/2024-04-30/
LOCATION:KJHK Main Station
CATEGORIES:Staff Meeting
ORGANIZER;CN="KJHK 90.7 FM":MAILTO:events@kjhk.org
END:VEVENT
END:VCALENDAR