BEGIN:VCALENDAR
VERSION:2.0
PRODID:-//KJHK 90.7 FM - ECPv6.15.20//NONSGML v1.0//EN
CALSCALE:GREGORIAN
METHOD:PUBLISH
X-WR-CALNAME:KJHK 90.7 FM
X-ORIGINAL-URL:https://kjhk.org/web
X-WR-CALDESC:Events for KJHK 90.7 FM
REFRESH-INTERVAL;VALUE=DURATION:PT1H
X-Robots-Tag:noindex
X-PUBLISHED-TTL:PT1H
BEGIN:VTIMEZONE
TZID:America/Chicago
BEGIN:DAYLIGHT
TZOFFSETFROM:-0600
TZOFFSETTO:-0500
TZNAME:CDT
DTSTART:20250309T080000
END:DAYLIGHT
BEGIN:STANDARD
TZOFFSETFROM:-0500
TZOFFSETTO:-0600
TZNAME:CST
DTSTART:20251102T070000
END:STANDARD
BEGIN:DAYLIGHT
TZOFFSETFROM:-0600
TZOFFSETTO:-0500
TZNAME:CDT
DTSTART:20260308T080000
END:DAYLIGHT
BEGIN:STANDARD
TZOFFSETFROM:-0500
TZOFFSETTO:-0600
TZNAME:CST
DTSTART:20261101T070000
END:STANDARD
BEGIN:DAYLIGHT
TZOFFSETFROM:-0600
TZOFFSETTO:-0500
TZNAME:CDT
DTSTART:20270314T080000
END:DAYLIGHT
BEGIN:STANDARD
TZOFFSETFROM:-0500
TZOFFSETTO:-0600
TZNAME:CST
DTSTART:20271107T070000
END:STANDARD
END:VTIMEZONE
BEGIN:VEVENT
DTSTART;VALUE=DATE:20260125
DTEND;VALUE=DATE:20260127
DTSTAMP:20260422T204142
CREATED:20260115T213611Z
LAST-MODIFIED:20260115T213611Z
UID:10001207-1769306400-1769392799@kjhk.org
SUMMARY:Battle of the Beats DJ Applications Due!
DESCRIPTION:Apply for a chance to compete at our annual Battle of the Beats by January 25! Click here to apply.
URL:https://kjhk.org/web/event/battle-of-the-beats-dj-applications-due/
CATEGORIES:Performance
ATTACH;FMTTYPE=image/jpeg:https://kjhk.org/web/wp-content/uploads/2026/01/bob.jpg
END:VEVENT
END:VCALENDAR